BEGIN:VCALENDAR
VERSION:2.0
PRODID:-//Aitkin County Economic Development - ECPv6.15.20//NONSGML v1.0//EN
CALSCALE:GREGORIAN
METHOD:PUBLISH
X-ORIGINAL-URL:https://naturallybetterhere.com
X-WR-CALDESC:Events for Aitkin County Economic Development
REFRESH-INTERVAL;VALUE=DURATION:PT1H
X-Robots-Tag:noindex
X-PUBLISHED-TTL:PT1H
BEGIN:VTIMEZONE
TZID:America/Chicago
BEGIN:DAYLIGHT
TZOFFSETFROM:-0600
TZOFFSETTO:-0500
TZNAME:CDT
DTSTART:20220313T080000
END:DAYLIGHT
BEGIN:STANDARD
TZOFFSETFROM:-0500
TZOFFSETTO:-0600
TZNAME:CST
DTSTART:20221106T070000
END:STANDARD
BEGIN:DAYLIGHT
TZOFFSETFROM:-0600
TZOFFSETTO:-0500
TZNAME:CDT
DTSTART:20230312T080000
END:DAYLIGHT
BEGIN:STANDARD
TZOFFSETFROM:-0500
TZOFFSETTO:-0600
TZNAME:CST
DTSTART:20231105T070000
END:STANDARD
BEGIN:DAYLIGHT
TZOFFSETFROM:-0600
TZOFFSETTO:-0500
TZNAME:CDT
DTSTART:20240310T080000
END:DAYLIGHT
BEGIN:STANDARD
TZOFFSETFROM:-0500
TZOFFSETTO:-0600
TZNAME:CST
DTSTART:20241103T070000
END:STANDARD
BEGIN:DAYLIGHT
TZOFFSETFROM:-0600
TZOFFSETTO:-0500
TZNAME:CDT
DTSTART:20250309T080000
END:DAYLIGHT
BEGIN:STANDARD
TZOFFSETFROM:-0500
TZOFFSETTO:-0600
TZNAME:CST
DTSTART:20251102T070000
END:STANDARD
END:VTIMEZONE
BEGIN:VEVENT
DTSTART;TZID=America/Chicago:20240720T083000
DTEND;TZID=America/Chicago:20240720T130000
DTSTAMP:20260418T203458
CREATED:20240514T135537Z
LAST-MODIFIED:20240514T135537Z
UID:10000210-1721464200-1721480400@naturallybetterhere.com
SUMMARY:STAY Walk\, Run\, & Rally
DESCRIPTION:A Community Event to Prevent Suicide.
URL:https://naturallybetterhere.com/event/stay-walk-run-rally/
LOCATION:Aitkin County Fairgrounds\, 632 Minnesota Avenue\, Aitkin\, MN\, 56431
CATEGORIES:Community Event
ATTACH;FMTTYPE=image/jpeg:https://naturallybetterhere.com/wp-content/uploads/2024/05/STAY-Flyer-4.26.24.jpg
ORGANIZER;CN="Committee for the Awareness &amp%3B Prevention of Suicide":MAILTO:stacey.durgin@co.aitkin.mn.us
END:VEVENT
BEGIN:VEVENT
DTSTART;TZID=America/Chicago:20240710T120000
DTEND;TZID=America/Chicago:20240713T190000
DTSTAMP:20260418T203458
CREATED:20240621T140827Z
LAST-MODIFIED:20240621T140827Z
UID:10000216-1720612800-1720897200@naturallybetterhere.com
SUMMARY:Aitkin County Fair
DESCRIPTION:
URL:https://naturallybetterhere.com/event/aitkin-county-fair/
LOCATION:Aitkin County Fairgrounds\, 632 Minnesota Avenue\, Aitkin\, MN\, 56431
CATEGORIES:Community Event,Family Event,Festival and Celebrations
END:VEVENT
BEGIN:VEVENT
DTSTART;TZID=America/Chicago:20240621T163000
DTEND;TZID=America/Chicago:20240621T220000
DTSTAMP:20260418T203458
CREATED:20240213T142613Z
LAST-MODIFIED:20240213T142613Z
UID:10000065-1718987400-1719007200@naturallybetterhere.com
SUMMARY:THE KENTUCKY HEADHUNTERS HEADLINE NATURE ROCKS
DESCRIPTION:
URL:https://naturallybetterhere.com/event/the-kentucky-headhunters-headline-nature-rocks/
LOCATION:Aitkin County Fairgrounds\, 632 Minnesota Avenue\, Aitkin\, MN\, 56431
CATEGORIES:Community Event,Family Event,Festival and Celebrations,Fundraising Events,Live Music
END:VEVENT
BEGIN:VEVENT
DTSTART;TZID=America/Chicago:20240215T100000
DTEND;TZID=America/Chicago:20240215T170000
DTSTAMP:20260418T203458
CREATED:20240213T142934Z
LAST-MODIFIED:20240213T142934Z
UID:10000066-1707991200-1708016400@naturallybetterhere.com
SUMMARY:THE KENTUCKY HEADHUNTERS HEADLINE NATURE ROCKS- Tickets on sale 10am Thursday\, February 15
DESCRIPTION:Tickets go on sale at 10 a.m. on Thursday\, Feb. 15 at naturerocksconcert.com\, or by calling 800-595-4849. Tickets are $35 in advance for general admission tickets or $75 for VIP tickets. Proceeds will pay for scholarships for students to attend outdoor adventure camps and outdoor school field trips at Long Lake Conservation Center.
URL:https://naturallybetterhere.com/event/the-kentucky-headhunters-headline-nature-rocks-tickets-on-sale-10am-thursday-february-15/
LOCATION:Aitkin County Fairgrounds\, 632 Minnesota Avenue\, Aitkin\, MN\, 56431
CATEGORIES:Community Event,Family Event,Festival and Celebrations,Fundraising Events,Live Music
END:VEVENT
BEGIN:VEVENT
DTSTART;TZID=America/Chicago:20230914T160000
DTEND;TZID=America/Chicago:20230914T200000
DTSTAMP:20260418T203458
CREATED:20230911T155622Z
LAST-MODIFIED:20230911T155622Z
UID:10000015-1694707200-1694721600@naturallybetterhere.com
SUMMARY:American Peat Technology 20th Anniversary Party
DESCRIPTION:
URL:https://naturallybetterhere.com/event/american-peat-technology-20th-anniversary-party/
LOCATION:Aitkin County Fairgrounds\, 632 Minnesota Avenue\, Aitkin\, MN\, 56431
CATEGORIES:Community Event,Festival and Celebrations
END:VEVENT
END:VCALENDAR